BEGIN:VCALENDAR
VERSION:2.0
PRODID:-//wp-events-plugin.com//7.0.4//EN
BEGIN:VEVENT
UID:9@project-atlantis.com
DTSTART;TZID=Europe/Paris;VALUE=DATE:20230718
DTEND;TZID=Europe/Paris;VALUE=DATE:20230721
DTSTAMP:20221021T175223Z
URL:https://www.project-atlantis.com/events/international-symposium-on-mag
 netic-bearings-ismb18/
SUMMARY:International Symposium on Magnetic Bearings - ISMB18
DESCRIPTION:The eighteenth international symposium\, ISMB18\, will take pla
 ce at Palais des Congrès in Lyon from July 18th to 21st\, 2023. The aims 
 of ISMB18 are to promote scientific and technological exchange\, and to en
 hance the understanding and the dissemination of magnetic bearing technolo
 gy worldwide. The ISMB is the major meeting for academic and industrial re
 searchers from all over the world. Find out more on the history of ISMB an
 d the past symposia at The Web Portal on Magnetic Bearings.
CATEGORIES:Conference
LOCATION:https://ismb18.sciencesconf.org/
END:VEVENT
BEGIN:VTIMEZONE
TZID:Europe/Paris
X-LIC-LOCATION:Europe/Paris
BEGIN:DAYLIGHT
DTSTART:20230326T030000
TZOFFSETFROM:+0100
TZOFFSETTO:+0200
TZNAME:CEST
END:DAYLIGHT
END:VTIMEZONE
END:VCALENDAR