BEGIN:VCALENDAR
VERSION:2.0
PRODID:-//wp-events-plugin.com//7.0.4//EN
BEGIN:VEVENT
UID:4@project-atlantis.com
DTSTART;TZID=Asia/Baku;VALUE=DATE:20231002
DTEND;TZID=Asia/Baku;VALUE=DATE:20231007
DTSTAMP:20221021T175513Z
URL:https://www.project-atlantis.com/events/international-astronautical-co
 ngress-2023/
SUMMARY:International Astronautical Congress 2023
DESCRIPTION:GLOBAL CHALLENGES AND OPPORTUNITIES: GIVE SPACE A CHANCE\nAt th
 e IAC 2019\, the IAF General Assembly selected Baku\, Azerbaijan\, as Host
  city for IAC 2022 from Azercosmos. Following the growing escalation of t
 he Covid-19 outbreak around the world\, the IAF has been forced to re-asse
 ss the overall schedule of IACs. On Wednesday 3 June 2020\, an extraordina
 ry session of the Bureau of the International Astronautical Federation (IA
 F) was chaired by Pascale Ehrenfreund\, IAF President. The Bureau reviewed
  the calendar of the forthcoming editions of the International Astronautic
 al Congress (IAC) in light of the consequences of the COVID-19 pandemic an
 d the resulting lockdown. Baku\, Azerbaijan will now host the IAC on 2-6 O
 ctober 2023\n\nHolding the Congress under the theme Global Challenges and
  Opportunities: Give Space a Chance in Azerbaijan’s capital will make a
  significant contributions to the establishment of closer ties with foreig
 n space agencies\, companies and organizations\, to the development of hum
 an capital. During this Congress\, Azerbaijan will bring together over 6\,
 000 representatives of the space industry for the first time in its histor
 y.\n\nIt should be noted that Baku received the right to host the IAC 2023
  thanks to the special contribution made by a number of institutions\, suc
 h as the Ministry of Foreign Affairs\, the State Tourism Agency and Azerba
 ijan Convention Bureau\, Heydar Aliyev Center and Baku Congress Center. Th
 e city of Baku stood out from the competition thanks to its successful pro
 motional activities\, a professional presentation of the country’s touri
 sm potential and organizational capabilities.\n\nThere is a rich history b
 ehind holding IAC in Azerbaijan. The 24th International Astronautical Cong
 ress was held in Baku in 1973 for the first time in the Soviet Union upon 
 the initiative of Azerbaijan’s National Leader Heydar Aliyev.
ATTACH;FMTTYPE=image/jpeg:https://www.project-atlantis.com/wp-content/uplo
 ads/2022/09/services-hero.jpg
CATEGORIES:Conference
LOCATION:https://www.iafastro.org/events/iac/iac-2023/
END:VEVENT
BEGIN:VTIMEZONE
TZID:Asia/Baku
X-LIC-LOCATION:Asia/Baku
BEGIN:STANDARD
DTSTART:20221002T000000
TZOFFSETFROM:+0400
TZOFFSETTO:+0400
TZNAME:+04
END:STANDARD
END:VTIMEZONE
END:VCALENDAR