BEGIN:VCALENDAR
VERSION:2.0
PRODID:-//wp-events-plugin.com//7.0.4//EN
BEGIN:VEVENT
UID:7@project-atlantis.com
DTSTART;TZID=America/Chicago;VALUE=DATE:20230625
DTEND;TZID=America/Chicago;VALUE=DATE:20230701
DTSTAMP:20221021T175121Z
URL:https://www.project-atlantis.com/events/ieee-pulsed-power-conference/
SUMMARY:IEEE Pulsed Power Conference
DESCRIPTION:Welcome to the Co-located IEEE Pulsed Power Conference &amp\; S
 ymposium on Fusion Engineering (PPC SOFE 2021). This year will be the 23rd
  IEEE Pulsed Power Conference (PPC) and the 29th IEEE Symposium on Fusion 
 Engineering (SOFE).\n\nWhile these two conferences have distinct technical
  programs\, by co-locating them at a common venue\, or virtual platform th
 is year\, we hope to provide enhanced opportunities for social and technic
 al interaction between these communities. The conferences will encompass a
  wide range of technical activities\, and we hope to offer two excellent t
 echnical exchanges.
CATEGORIES:Conference
LOCATION:https://uta.engineering/ppcsofe2021/
END:VEVENT
BEGIN:VTIMEZONE
TZID:America/Chicago
X-LIC-LOCATION:America/Chicago
BEGIN:DAYLIGHT
DTSTART:20230312T030000
TZOFFSETFROM:-0600
TZOFFSETTO:-0500
TZNAME:CDT
END:DAYLIGHT
END:VTIMEZONE
END:VCALENDAR