BEGIN:VCALENDAR
VERSION:2.0
PRODID:-//wp-events-plugin.com//7.0.4//EN
BEGIN:VEVENT
UID:5@project-atlantis.com
DTSTART;TZID=Europe/Helsinki;VALUE=DATE:20230619
DTEND;TZID=Europe/Helsinki;VALUE=DATE:20230622
DTSTAMP:20221021T175055Z
URL:https://www.project-atlantis.com/events/32nd-international-symposium-o
 n-industrial-electronics-isie/
SUMMARY:32nd International Symposium on Industrial Electronics (ISIE)
DESCRIPTION:
CATEGORIES:Conference
LOCATION:https://2023.ieee-isie.org/
END:VEVENT
BEGIN:VTIMEZONE
TZID:Europe/Helsinki
X-LIC-LOCATION:Europe/Helsinki
BEGIN:DAYLIGHT
DTSTART:20230326T040000
TZOFFSETFROM:+0200
TZOFFSETTO:+0300
TZNAME:EEST
END:DAYLIGHT
END:VTIMEZONE
END:VCALENDAR